BEGIN:VCALENDAR
VERSION:2.0
PRODID:-//Der grüne Fußabdruck - ECPv6.15.14//NONSGML v1.0//EN
CALSCALE:GREGORIAN
METHOD:PUBLISH
X-WR-CALNAME:Der grüne Fußabdruck
X-ORIGINAL-URL:https://www.dergruenefussabdruck.de
X-WR-CALDESC:Veranstaltungen für Der grüne Fußabdruck
REFRESH-INTERVAL;VALUE=DURATION:PT1H
X-Robots-Tag:noindex
X-PUBLISHED-TTL:PT1H
BEGIN:VTIMEZONE
TZID:UTC
BEGIN:STANDARD
TZOFFSETFROM:+0000
TZOFFSETTO:+0000
TZNAME:UTC
DTSTART:20210101T000000
END:STANDARD
END:VTIMEZONE
BEGIN:VEVENT
DTSTART;TZID=UTC:20221027T200000
DTEND;TZID=UTC:20221027T210000
DTSTAMP:20260420T174923
CREATED:20220906T103921Z
LAST-MODIFIED:20220906T103921Z
UID:3348-1666900800-1666904400@www.dergruenefussabdruck.de
SUMMARY:Dein Green Business!
DESCRIPTION:Tauche ein in die Welt der nachhaltigen und natürlichen Pflege und lasse dich begeistern ein Green Business zu gründen.\nSelbstständig sein und selbstverständlich kein Einzelkämpfer\, das geht!\nStarte im Team mit tollen Mentoren und lasse dich inspirieren von tollen Teamkollegen für deinen persönlichen nachhaltigen Weg. \nNeugierig geworden? \nDann melde dich bitte über das Kontaktformular frühzeitig an und erhalte die Einwahldaten. \nDein grüner Fußabdruck \nDu bist schon überzeugt\, das Teamwork\, Nachhaltigkeit und natürliche Frische dein Thema sind\, dann starte sofort über unseren Link \n>> Green business booster <<
URL:https://www.dergruenefussabdruck.de/termine/dein-green-business-6
LOCATION:Wellness-Finca Cala Ratjada\, Cami de na Pinaret 18\, Cala Ratjada\, 07590\, Spanien
ATTACH;FMTTYPE=image/jpeg:https://www.dergruenefussabdruck.de/wp-content/uploads/2022/08/Hintergrund-Freshdate-1080.jpg
END:VEVENT
BEGIN:VEVENT
DTSTART;TZID=UTC:20221024T200000
DTEND;TZID=UTC:20221024T210000
DTSTAMP:20260420T174923
CREATED:20220906T105034Z
LAST-MODIFIED:20220906T105034Z
UID:3372-1666641600-1666645200@www.dergruenefussabdruck.de
SUMMARY:Natürliche nachhaltige Pflege die begeistert!
DESCRIPTION:Tauche ein in die Welt der nachhaltigen und natürlichen Pflege und lerne hochwirksame\, kompromisslose Frischekosmetik und Supplements kennen. Wir laden Dich ein und stellen Dir frische Pflegeprodukte vor\, die frei von jeglicher Chemie wie z. B. Konservierungsmitteln\, Stabilisatoren und Mineralölen sind. \nNeugierig geworden? \nDann melde dich bitte über das >>Kontaktformular<< frühzeitig an und erhalte die Einwahldaten. \nDein grüner Fußabdruck
URL:https://www.dergruenefussabdruck.de/termine/natuerliche-nachhaltige-pflege-die-begeistert-11
LOCATION:Wellness-Finca Cala Ratjada\, Cami de na Pinaret 18\, Cala Ratjada\, 07590\, Spanien
ATTACH;FMTTYPE=image/jpeg:https://www.dergruenefussabdruck.de/wp-content/uploads/2022/08/Freshdate-Frau-entspannt.jpg
END:VEVENT
BEGIN:VEVENT
DTSTART;TZID=UTC:20221023T200000
DTEND;TZID=UTC:20221023T210000
DTSTAMP:20260420T174923
CREATED:20220906T103659Z
LAST-MODIFIED:20220906T103734Z
UID:3344-1666555200-1666558800@www.dergruenefussabdruck.de
SUMMARY:Dein Green Business!
DESCRIPTION:Tauche ein in die Welt der nachhaltigen und natürlichen Pflege und lasse dich begeistern ein Green Business zu gründen.\nSelbstständig sein und selbstverständlich kein Einzelkämpfer\, das geht!\nStarte im Team mit tollen Mentoren und lasse dich inspirieren von tollen Teamkollegen für deinen persönlichen nachhaltigen Weg. \nNeugierig geworden? \nDann melde dich bitte über das Kontaktformular frühzeitig an und erhalte die Einwahldaten. \nDein grüner Fußabdruck \nDu bist schon überzeugt\, das Teamwork\, Nachhaltigkeit und natürliche Frische dein Thema sind\, dann starte sofort über unseren Link \n>> Green business booster <<
URL:https://www.dergruenefussabdruck.de/termine/dein-green-business-4
LOCATION:Wellness-Finca Cala Ratjada\, Cami de na Pinaret 18\, Cala Ratjada\, 07590\, Spanien
ATTACH;FMTTYPE=image/jpeg:https://www.dergruenefussabdruck.de/wp-content/uploads/2022/08/Hintergrund-Freshdate-1080.jpg
END:VEVENT
BEGIN:VEVENT
DTSTART;TZID=UTC:20221020T200000
DTEND;TZID=UTC:20221020T210000
DTSTAMP:20260420T174923
CREATED:20220906T104946Z
LAST-MODIFIED:20220906T104946Z
UID:3370-1666296000-1666299600@www.dergruenefussabdruck.de
SUMMARY:Natürliche nachhaltige Pflege die begeistert!
DESCRIPTION:Tauche ein in die Welt der nachhaltigen und natürlichen Pflege und lerne hochwirksame\, kompromisslose Frischekosmetik und Supplements kennen. Wir laden Dich ein und stellen Dir frische Pflegeprodukte vor\, die frei von jeglicher Chemie wie z. B. Konservierungsmitteln\, Stabilisatoren und Mineralölen sind. \nNeugierig geworden? \nDann melde dich bitte über das >>Kontaktformular<< frühzeitig an und erhalte die Einwahldaten. \nDein grüner Fußabdruck
URL:https://www.dergruenefussabdruck.de/termine/natuerliche-nachhaltige-pflege-die-begeistert-10
LOCATION:Wellness-Finca Cala Ratjada\, Cami de na Pinaret 18\, Cala Ratjada\, 07590\, Spanien
ATTACH;FMTTYPE=image/jpeg:https://www.dergruenefussabdruck.de/wp-content/uploads/2022/08/Freshdate-Frau-entspannt.jpg
END:VEVENT
BEGIN:VEVENT
DTSTART;TZID=UTC:20221013T200000
DTEND;TZID=UTC:20221013T210000
DTSTAMP:20260420T174923
CREATED:20220906T103843Z
LAST-MODIFIED:20220906T103843Z
UID:3346-1665691200-1665694800@www.dergruenefussabdruck.de
SUMMARY:Dein Green Business!
DESCRIPTION:Tauche ein in die Welt der nachhaltigen und natürlichen Pflege und lasse dich begeistern ein Green Business zu gründen.\nSelbstständig sein und selbstverständlich kein Einzelkämpfer\, das geht!\nStarte im Team mit tollen Mentoren und lasse dich inspirieren von tollen Teamkollegen für deinen persönlichen nachhaltigen Weg. \nNeugierig geworden? \nDann melde dich bitte über das Kontaktformular frühzeitig an und erhalte die Einwahldaten. \nDein grüner Fußabdruck \nDu bist schon überzeugt\, das Teamwork\, Nachhaltigkeit und natürliche Frische dein Thema sind\, dann starte sofort über unseren Link \n>> Green business booster <<
URL:https://www.dergruenefussabdruck.de/termine/dein-green-business-5
LOCATION:Wellness-Finca Cala Ratjada\, Cami de na Pinaret 18\, Cala Ratjada\, 07590\, Spanien
ATTACH;FMTTYPE=image/jpeg:https://www.dergruenefussabdruck.de/wp-content/uploads/2022/08/Hintergrund-Freshdate-1080.jpg
END:VEVENT
BEGIN:VEVENT
DTSTART;TZID=UTC:20221010T200000
DTEND;TZID=UTC:20221010T210000
DTSTAMP:20260420T174923
CREATED:20220906T104912Z
LAST-MODIFIED:20220906T104912Z
UID:3368-1665432000-1665435600@www.dergruenefussabdruck.de
SUMMARY:Natürliche nachhaltige Pflege die begeistert!
DESCRIPTION:Tauche ein in die Welt der nachhaltigen und natürlichen Pflege und lerne hochwirksame\, kompromisslose Frischekosmetik und Supplements kennen. Wir laden Dich ein und stellen Dir frische Pflegeprodukte vor\, die frei von jeglicher Chemie wie z. B. Konservierungsmitteln\, Stabilisatoren und Mineralölen sind. \nNeugierig geworden? \nDann melde dich bitte über das >>Kontaktformular<< frühzeitig an und erhalte die Einwahldaten. \nDein grüner Fußabdruck
URL:https://www.dergruenefussabdruck.de/termine/natuerliche-nachhaltige-pflege-die-begeistert-9
LOCATION:Wellness-Finca Cala Ratjada\, Cami de na Pinaret 18\, Cala Ratjada\, 07590\, Spanien
ATTACH;FMTTYPE=image/jpeg:https://www.dergruenefussabdruck.de/wp-content/uploads/2022/08/Freshdate-Frau-entspannt.jpg
END:VEVENT
BEGIN:VEVENT
DTSTART;TZID=UTC:20221009T200000
DTEND;TZID=UTC:20221009T210000
DTSTAMP:20260420T174923
CREATED:20220906T103529Z
LAST-MODIFIED:20220906T103621Z
UID:3341-1665345600-1665349200@www.dergruenefussabdruck.de
SUMMARY:Dein Green Business!
DESCRIPTION:Tauche ein in die Welt der nachhaltigen und natürlichen Pflege und lasse dich begeistern ein Green Business zu gründen.\nSelbstständig sein und selbstverständlich kein Einzelkämpfer\, das geht!\nStarte im Team mit tollen Mentoren und lasse dich inspirieren von tollen Teamkollegen für deinen persönlichen nachhaltigen Weg. \nNeugierig geworden? \nDann melde dich bitte über das Kontaktformular frühzeitig an und erhalte die Einwahldaten. \nDein grüner Fußabdruck \nDu bist schon überzeugt\, das Teamwork\, Nachhaltigkeit und natürliche Frische dein Thema sind\, dann starte sofort über unseren Link \n>> Green business booster <<
URL:https://www.dergruenefussabdruck.de/termine/dein-green-business-3
LOCATION:Wellness-Finca Cala Ratjada\, Cami de na Pinaret 18\, Cala Ratjada\, 07590\, Spanien
ATTACH;FMTTYPE=image/jpeg:https://www.dergruenefussabdruck.de/wp-content/uploads/2022/08/Hintergrund-Freshdate-1080.jpg
END:VEVENT
BEGIN:VEVENT
DTSTART;TZID=UTC:20221006T200000
DTEND;TZID=UTC:20221006T210000
DTSTAMP:20260420T174923
CREATED:20220906T104805Z
LAST-MODIFIED:20220906T104805Z
UID:3366-1665086400-1665090000@www.dergruenefussabdruck.de
SUMMARY:Natürliche nachhaltige Pflege die begeistert!
DESCRIPTION:Tauche ein in die Welt der nachhaltigen und natürlichen Pflege und lerne hochwirksame\, kompromisslose Frischekosmetik und Supplements kennen. Wir laden Dich ein und stellen Dir frische Pflegeprodukte vor\, die frei von jeglicher Chemie wie z. B. Konservierungsmitteln\, Stabilisatoren und Mineralölen sind. \nNeugierig geworden? \nDann melde dich bitte über das >>Kontaktformular<< frühzeitig an und erhalte die Einwahldaten. \nDein grüner Fußabdruck
URL:https://www.dergruenefussabdruck.de/termine/natuerliche-nachhaltige-pflege-die-begeistert-8
LOCATION:Wellness-Finca Cala Ratjada\, Cami de na Pinaret 18\, Cala Ratjada\, 07590\, Spanien
ATTACH;FMTTYPE=image/jpeg:https://www.dergruenefussabdruck.de/wp-content/uploads/2022/08/Freshdate-Frau-entspannt.jpg
END:VEVENT
BEGIN:VEVENT
DTSTART;TZID=UTC:20220926T200000
DTEND;TZID=UTC:20220926T210000
DTSTAMP:20260420T174923
CREATED:20220906T104726Z
LAST-MODIFIED:20220906T104726Z
UID:3364-1664222400-1664226000@www.dergruenefussabdruck.de
SUMMARY:Natürliche nachhaltige Pflege die begeistert!
DESCRIPTION:Tauche ein in die Welt der nachhaltigen und natürlichen Pflege und lerne hochwirksame\, kompromisslose Frischekosmetik und Supplements kennen. Wir laden Dich ein und stellen Dir frische Pflegeprodukte vor\, die frei von jeglicher Chemie wie z. B. Konservierungsmitteln\, Stabilisatoren und Mineralölen sind. \nNeugierig geworden? \nDann melde dich bitte über das >>Kontaktformular<< frühzeitig an und erhalte die Einwahldaten. \nDein grüner Fußabdruck
URL:https://www.dergruenefussabdruck.de/termine/natuerliche-nachhaltige-pflege-die-begeistert-7
LOCATION:Wellness-Finca Cala Ratjada\, Cami de na Pinaret 18\, Cala Ratjada\, 07590\, Spanien
ATTACH;FMTTYPE=image/jpeg:https://www.dergruenefussabdruck.de/wp-content/uploads/2022/08/Freshdate-Frau-entspannt.jpg
END:VEVENT
BEGIN:VEVENT
DTSTART;TZID=UTC:20220922T200000
DTEND;TZID=UTC:20220922T210000
DTSTAMP:20260420T174923
CREATED:20220906T104647Z
LAST-MODIFIED:20220906T104647Z
UID:3362-1663876800-1663880400@www.dergruenefussabdruck.de
SUMMARY:Natürliche nachhaltige Pflege die begeistert!
DESCRIPTION:Tauche ein in die Welt der nachhaltigen und natürlichen Pflege und lerne hochwirksame\, kompromisslose Frischekosmetik und Supplements kennen. Wir laden Dich ein und stellen Dir frische Pflegeprodukte vor\, die frei von jeglicher Chemie wie z. B. Konservierungsmitteln\, Stabilisatoren und Mineralölen sind. \nNeugierig geworden? \nDann melde dich bitte über das >>Kontaktformular<< frühzeitig an und erhalte die Einwahldaten. \nDein grüner Fußabdruck
URL:https://www.dergruenefussabdruck.de/termine/natuerliche-nachhaltige-pflege-die-begeistert-6
LOCATION:Wellness-Finca Cala Ratjada\, Cami de na Pinaret 18\, Cala Ratjada\, 07590\, Spanien
ATTACH;FMTTYPE=image/jpeg:https://www.dergruenefussabdruck.de/wp-content/uploads/2022/08/Freshdate-Frau-entspannt.jpg
END:VEVENT
BEGIN:VEVENT
DTSTART;TZID=UTC:20220912T200000
DTEND;TZID=UTC:20220912T210000
DTSTAMP:20260420T174923
CREATED:20220906T104558Z
LAST-MODIFIED:20220906T104558Z
UID:3359-1663012800-1663016400@www.dergruenefussabdruck.de
SUMMARY:Natürliche nachhaltige Pflege die begeistert!
DESCRIPTION:Tauche ein in die Welt der nachhaltigen und natürlichen Pflege und lerne hochwirksame\, kompromisslose Frischekosmetik und Supplements kennen. Wir laden Dich ein und stellen Dir frische Pflegeprodukte vor\, die frei von jeglicher Chemie wie z. B. Konservierungsmitteln\, Stabilisatoren und Mineralölen sind. \nNeugierig geworden? \nDann melde dich bitte über das >>Kontaktformular<< frühzeitig an und erhalte die Einwahldaten. \nDein grüner Fußabdruck
URL:https://www.dergruenefussabdruck.de/termine/natuerliche-nachhaltige-pflege-die-begeistert-5
LOCATION:Wellness-Finca Cala Ratjada\, Cami de na Pinaret 18\, Cala Ratjada\, 07590\, Spanien
ATTACH;FMTTYPE=image/jpeg:https://www.dergruenefussabdruck.de/wp-content/uploads/2022/08/Freshdate-Frau-entspannt.jpg
END:VEVENT
BEGIN:VEVENT
DTSTART;TZID=UTC:20220911T200000
DTEND;TZID=UTC:20220911T210000
DTSTAMP:20260420T174923
CREATED:20220906T103444Z
LAST-MODIFIED:20220906T103444Z
UID:3339-1662926400-1662930000@www.dergruenefussabdruck.de
SUMMARY:Dein Green Business!
DESCRIPTION:Tauche ein in die Welt der nachhaltigen und natürlichen Pflege und lasse dich begeistern ein Green Business zu gründen.\nSelbstständig sein und selbstverständlich kein Einzelkämpfer\, das geht!\nStarte im Team mit tollen Mentoren und lasse dich inspirieren von tollen Teamkollegen für deinen persönlichen nachhaltigen Weg. \nNeugierig geworden? \nDann melde dich bitte über das Kontaktformular frühzeitig an und erhalte die Einwahldaten. \nDein grüner Fußabdruck \nDu bist schon überzeugt\, das Teamwork\, Nachhaltigkeit und natürliche Frische dein Thema sind\, dann starte sofort über unseren Link \n>> Green business booster <<
URL:https://www.dergruenefussabdruck.de/termine/dein-green-business-2
LOCATION:Wellness-Finca Cala Ratjada\, Cami de na Pinaret 18\, Cala Ratjada\, 07590\, Spanien
ATTACH;FMTTYPE=image/jpeg:https://www.dergruenefussabdruck.de/wp-content/uploads/2022/08/Hintergrund-Freshdate-1080.jpg
END:VEVENT
BEGIN:VEVENT
DTSTART;TZID=UTC:20220908T200000
DTEND;TZID=UTC:20220908T210000
DTSTAMP:20260420T174923
CREATED:20220821T201216Z
LAST-MODIFIED:20220904T175955Z
UID:3275-1662667200-1662670800@www.dergruenefussabdruck.de
SUMMARY:Natürliche nachhaltige Pflege die begeistert!
DESCRIPTION:Tauche ein in die Welt der nachhaltigen und natürlichen Pflege und lerne hochwirksame\, kompromisslose Frischekosmetik und Supplements kennen. Wir laden Dich ein und stellen Dir frische Pflegeprodukte vor\, die frei von jeglicher Chemie wie z. B. Konservierungsmitteln\, Stabilisatoren und Mineralölen sind. \nNeugierig geworden? \nDann melde dich bitte über das >>Kontaktformular<< frühzeitig an und erhalte die Einwahldaten. \nDein grüner Fußabdruck
URL:https://www.dergruenefussabdruck.de/termine/natuerliche-nachhaltige-pflege-die-begeistert-4
LOCATION:Wellness-Finca Cala Ratjada\, Cami de na Pinaret 18\, Cala Ratjada\, 07590\, Spanien
ATTACH;FMTTYPE=image/jpeg:https://www.dergruenefussabdruck.de/wp-content/uploads/2022/08/Freshdate-Frau-entspannt.jpg
END:VEVENT
BEGIN:VEVENT
DTSTART;TZID=UTC:20220901T200000
DTEND;TZID=UTC:20220901T210000
DTSTAMP:20260420T174923
CREATED:20220829T142143Z
LAST-MODIFIED:20220831T124137Z
UID:3278-1662062400-1662066000@www.dergruenefussabdruck.de
SUMMARY:Dein Green Business!
DESCRIPTION:Tauche ein in die Welt der nachhaltigen und natürlichen Pflege und lasse dich begeistern ein Green Business zu gründen.\nSelbstständig sein und selbstverständlich kein Einzelkämpfer\, das geht!\nStarte im Team mit tollen Mentoren und lasse dich inspirieren von tollen Teamkollegen für deinen persönlichen nachhaltigen Weg. \nNeugierig geworden? \nDann melde dich bitte über das Kontaktformular frühzeitig an und erhalte die Einwahldaten. \nDein grüner Fußabdruck \nDu bist schon überzeugt\, das Teamwork\, Nachhaltigkeit und natürliche Frische dein Thema sind\, dann starte sofort über unseren Link \n>> Green business booster <<
URL:https://www.dergruenefussabdruck.de/termine/dein-green-business
LOCATION:Wellness-Finca Cala Ratjada\, Cami de na Pinaret 18\, Cala Ratjada\, 07590\, Spanien
ATTACH;FMTTYPE=image/jpeg:https://www.dergruenefussabdruck.de/wp-content/uploads/2022/08/Hintergrund-Freshdate-1080.jpg
END:VEVENT
BEGIN:VEVENT
DTSTART;TZID=UTC:20220811T200000
DTEND;TZID=UTC:20220811T210000
DTSTAMP:20260420T174923
CREATED:20220803T095701Z
LAST-MODIFIED:20220803T095701Z
UID:3193-1660248000-1660251600@www.dergruenefussabdruck.de
SUMMARY:Natürliche nachhaltige Pflege die begeistert!
DESCRIPTION:Tauche ein in die Welt der nachhaltigen und natürlichen Pflege und lerne hochwirksame\, kompromisslose Frischekosmetik und Supplements kennen. Wir laden Dich ein\, und stellen Dir frische Pflegeprodukte vor\, die frei von jeglicher Chemie wie z.B. Konservierungsmitteln\, Stabilisatoren und Mineralölen sind. \nNeugierig geworden? \nDann melde dich bitte über das Kontaktformular frühzeitig an und erhalte die Einwahldaten. \nDein grüner Fußabdruck
URL:https://www.dergruenefussabdruck.de/termine/natuerliche-nachhaltige-pflege-die-begeistert-3
LOCATION:Wellness-Finca Cala Ratjada\, Cami de na Pinaret 18\, Cala Ratjada\, 07590\, Spanien
END:VEVENT
BEGIN:VEVENT
DTSTART;TZID=UTC:20220808T200000
DTEND;TZID=UTC:20220808T210000
DTSTAMP:20260420T174923
CREATED:20220803T095550Z
LAST-MODIFIED:20220803T095550Z
UID:3191-1659988800-1659992400@www.dergruenefussabdruck.de
SUMMARY:Natürliche nachhaltige Pflege die begeistert!
DESCRIPTION:Tauche ein in die Welt der nachhaltigen und natürlichen Pflege und lerne hochwirksame\, kompromisslose Frischekosmetik und Supplements kennen. Wir laden Dich ein\, und stellen Dir frische Pflegeprodukte vor\, die frei von jeglicher Chemie wie z.B. Konservierungsmitteln\, Stabilisatoren und Mineralölen sind. \nNeugierig geworden? \nDann melde dich bitte über das Kontaktformular frühzeitig an und erhalte die Einwahldaten. \nDein grüner Fußabdruck
URL:https://www.dergruenefussabdruck.de/termine/natuerliche-nachhaltige-pflege-die-begeistert-2
LOCATION:Wellness-Finca Cala Ratjada\, Cami de na Pinaret 18\, Cala Ratjada\, 07590\, Spanien
END:VEVENT
BEGIN:VEVENT
DTSTART;TZID=UTC:20220725T200000
DTEND;TZID=UTC:20220725T210000
DTSTAMP:20260420T174923
CREATED:20220721T103057Z
LAST-MODIFIED:20220721T103057Z
UID:3144-1658779200-1658782800@www.dergruenefussabdruck.de
SUMMARY:Natürliche nachhaltige Pflege die begeistert!
DESCRIPTION:Tauche ein in die Welt der nachhaltigen und natürlichen Pflege und lerne hochwirksame\, kompromisslose Frischekosmetik und Supplements kennen. Wir laden Dich ein\, und stellen Dir frische Pflegeprodukte vor\, die frei von jeglicher Chemie wie z.B. Konservierungsmitteln\, Stabilisatoren und Mineralölen sind. \nNeugierig geworden? \nDann melde dich bitte über das Kontaktformular frühzeitig an und erhalte die Einwahldaten. \nDein grüner Fußabdruck
URL:https://www.dergruenefussabdruck.de/termine/natuerliche-nachhaltige-pflege-die-begeistert
LOCATION:Wellness-Finca Cala Ratjada\, Cami de na Pinaret 18\, Cala Ratjada\, 07590\, Spanien
END:VEVENT
END:VCALENDAR